BEGIN:VCALENDAR
VERSION:2.0
PRODID:-//eventon.com NONSGML v1.0//EN
CALSCALE:GREGORIAN
METHOD:PUBLISH
BEGIN:VEVENT
UID:69e4d459eef32
DTSTAMP:20260419T131049Z
DTSTART:20250612T190000Z
DTEND:20250612T210000Z
LOCATION:The Bridge Public House
SUMMARY:Trivia Night: 1970s
DESCRIPTION:Break out the bell bottoms and brush up on disco\,  lava lamps\
 ,  and classic cinema — it’s time to boogie back to the ‘70s! Join us
  for a far-out night of trivia that covers all things groovy. Prizes\,  dri
 nks\,  and bragging rights await! 👉 Reserve your table now\nhttps://theb
 ridgepublichouse.com/events/trivia-night-1970s/
URL:https://thebridgepublichouse.com/events/trivia-night-1970s/
END:VEVENT
END:VCALENDAR