BEGIN:VCALENDAR
VERSION:2.0
PRODID:-//eventon.com NONSGML v1.0//EN
CALSCALE:GREGORIAN
METHOD:PUBLISH
BEGIN:VEVENT
UID:69e9d6714eb4b
DTSTAMP:20260423T082105Z
DTSTART:20250626T190000Z
DTEND:20250626T210000Z
LOCATION:The Bridge Public House
SUMMARY:Trivia Night: Rock n' Roll
DESCRIPTION:Are you ready to rock? Test your knowledge of legendary bands\,
   iconic albums\,  and music that changed the world. From Elvis to Nirvana\
 ,  it&#8217;s a headbanger&#8217;s dream of trivia. Come for the good vibes
 \,  stay for the epic tunes and prizes! 👉 Reserve your table now\nhttps:
 //thebridgepublichouse.com/events/trivia-night-rock-n-roll/
URL:https://thebridgepublichouse.com/events/trivia-night-rock-n-roll/
END:VEVENT
END:VCALENDAR