BEGIN:VCALENDAR
VERSION:2.0
PRODID:-//eventon.com NONSGML v1.0//EN
CALSCALE:GREGORIAN
METHOD:PUBLISH
BEGIN:VEVENT
UID:69e9ed1c84197
DTSTAMP:20260423T095748Z
DTSTART:20260221T220000Z
DTEND:20260222T010000Z
LOCATION:The Bridge Public House
SUMMARY:Live Music: TJ Morrison
DESCRIPTION:\nhttps://thebridgepublichouse.com/events/live-music-tj-morriso
 n-6/
URL:https://thebridgepublichouse.com/events/live-music-tj-morrison-6/
END:VEVENT
END:VCALENDAR