BEGIN:VCALENDAR
VERSION:2.0
PRODID:-//eventon.com NONSGML v1.0//EN
CALSCALE:GREGORIAN
METHOD:PUBLISH
BEGIN:VEVENT
UID:69e5e551aee87
DTSTAMP:20260420T083529Z
DTSTART:20260314T170000Z
DTEND:20260314T200000Z
LOCATION:
SUMMARY:Live Music: Ryan MacIntyre
DESCRIPTION:\nhttps://thebridgepublichouse.com/events/live-music-ryan-macin
 tyre-3/
URL:https://thebridgepublichouse.com/events/live-music-ryan-macintyre-3/
END:VEVENT
END:VCALENDAR